BEGIN:VCALENDAR
VERSION:2.0
PRODID:-//ChamberMaster//Event Calendar 2.0//EN
METHOD:PUBLISH
X-PUBLISHED-TTL:P3D
REFRESH-INTERVAL:P3D
CALSCALE:GREGORIAN
BEGIN:VEVENT
DTSTART:20220404T213000Z
DTEND:20220404T233000Z
X-MICROSOFT-CDO-ALLDAYEVENT:FALSE
SUMMARY:2022 Annual Meeting
DESCRIPTION:2022 Annual Meeting
X-ALT-DESC;FMTTYPE=text/html:<strong><span style="font-size:22px\;">2022 Annual Meeting</span></strong>
LOCATION:Samuel Slater's Function Room 200 Gore Road Webster\, MA
UID:e.3486.9595
SEQUENCE:3
DTSTAMP:20260421T030526Z
URL:http://devwebsterdugley.preview.gochambermaster.com/events/details/2022-annual-meeting-9595
END:VEVENT

END:VCALENDAR
