BEGIN:VCALENDAR
VERSION:2.0
PRODID:-//ChamberMaster//Event Calendar 2.0//EN
METHOD:PUBLISH
X-PUBLISHED-TTL:P3D
REFRESH-INTERVAL:P3D
CALSCALE:GREGORIAN
BEGIN:VEVENT
DTSTART;VALUE=DATE:20211126
DTEND;VALUE=DATE:20211220
TRANSP:TRANSPARENT
X-MICROSOFT-CDO-ALLDAYEVENT:TRUE
SUMMARY:Virtual Food Drive - 24 Days of Giving
DESCRIPTION:"24 Days of Giving"
X-ALT-DESC;FMTTYPE=text/html:<span style="font-size:14px\;"><strong>&quot\;24 Days of Giving&quot\;</strong></span>
LOCATION:Your Business\, Your Department at Work or Your Home
UID:e.3486.9589
SEQUENCE:3
DTSTAMP:20260421T170723Z
URL:http://devwebsterdugley.preview.gochambermaster.com/events/details/virtual-food-drive-24-days-of-giving-9589
END:VEVENT

END:VCALENDAR
